BEGIN:VCALENDAR
VERSION:2.0
PRODID:ASSEMBLEIA DE FREGUESIA
X-WR-CALNAME:ASSEMBLEIA DE FREGUESIA
X-WR-TIMEZONE:Europe/Lisbon
X-PUBLISHED-TTL:P1W
BEGIN:VTIMEZONE
TZID:Europe/Lisbon
X-LIC-LOCATION:Europe/Lisbon
END:VTIMEZONE
BEGIN:VEVENT
UID:69e9ff715751d
DTSTART;VALUE=DATE:20260429
SEQUENCE:0
TRANSP:OPAQUE
DTEND;VALUE=DATE:20260430
SUMMARY:ASSEMBLEIA DE FREGUESIA
CLASS:PUBLIC
DESCRIPTION:Assembleia de Freguesia
X-MICROSOFT-CDO-ALLDAYEVENT:TRUE
DTSTAMP:20260423T111601Z
END:VEVENT
END:VCALENDAR